BEGIN:VCALENDAR
VERSION:2.0
PRODID:icalendar-ruby
CALSCALE:GREGORIAN
METHOD:PUBLISH
BEGIN:VTIMEZONE
TZID:Australia/Brisbane
BEGIN:STANDARD
DTSTART:19920301T020000
TZOFFSETFROM:+1100
TZOFFSETTO:+1000
TZNAME:AEST
END:STANDARD
END:VTIMEZONE
BEGIN:VEVENT
DTSTAMP:20260421T095310Z
UID:inspection_3007722
DTSTART;TZID=Australia/Brisbane:20260424T093000
DTEND;TZID=Australia/Brisbane:20260424T094500
CLASS:PUBLIC
CREATED:20260421T150132
DESCRIPTION: 
LAST-MODIFIED:20260421T150132
LOCATION:3 Normanby Square\, BUNDABERG SOUTH QLD 4670\, Australia
SUMMARY:3 Normanby Square\,  Inspection
URL;VALUE=URI:http://www.michaelsrealestate.com.au/
END:VEVENT
END:VCALENDAR
