BEGIN:VCALENDAR
VERSION:2.0
PRODID:icalendar-ruby
CALSCALE:GREGORIAN
METHOD:PUBLISH
BEGIN:VTIMEZONE
TZID:Australia/Brisbane
BEGIN:STANDARD
DTSTART:19920301T020000
TZOFFSETFROM:+1100
TZOFFSETTO:+1000
TZNAME:AEST
END:STANDARD
END:VTIMEZONE
BEGIN:VEVENT
DTSTAMP:20260422T080903Z
UID:inspection_3008994
DTSTART;TZID=Australia/Brisbane:20260424T120000
DTEND;TZID=Australia/Brisbane:20260424T123000
CLASS:PUBLIC
CREATED:20260422T121356
DESCRIPTION: 
LAST-MODIFIED:20260422T121356
LOCATION:86 Walker Street\, WALKERVALE QLD 4670\, Australia
SUMMARY:86 Walker Street\,  Inspection
URL;VALUE=URI:http://www.michaelsrealestate.com.au/
END:VEVENT
END:VCALENDAR
